BEGIN:VCALENDAR
VERSION:2.0
PRODID:-//SPARK GLOBAL - ECPv6.15.14//NONSGML v1.0//EN
CALSCALE:GREGORIAN
METHOD:PUBLISH
X-WR-CALNAME:SPARK GLOBAL
X-ORIGINAL-URL:https://sparkglobal.io
X-WR-CALDESC:Events for SPARK GLOBAL
REFRESH-INTERVAL;VALUE=DURATION:PT1H
X-Robots-Tag:noindex
X-PUBLISHED-TTL:PT1H
BEGIN:VTIMEZONE
TZID:Europe/Helsinki
BEGIN:DAYLIGHT
TZOFFSETFROM:+0200
TZOFFSETTO:+0300
TZNAME:EEST
DTSTART:20250330T010000
END:DAYLIGHT
BEGIN:STANDARD
TZOFFSETFROM:+0300
TZOFFSETTO:+0200
TZNAME:EET
DTSTART:20251026T010000
END:STANDARD
BEGIN:DAYLIGHT
TZOFFSETFROM:+0200
TZOFFSETTO:+0300
TZNAME:EEST
DTSTART:20260329T010000
END:DAYLIGHT
BEGIN:STANDARD
TZOFFSETFROM:+0300
TZOFFSETTO:+0200
TZNAME:EET
DTSTART:20261025T010000
END:STANDARD
BEGIN:DAYLIGHT
TZOFFSETFROM:+0200
TZOFFSETTO:+0300
TZNAME:EEST
DTSTART:20270328T010000
END:DAYLIGHT
BEGIN:STANDARD
TZOFFSETFROM:+0300
TZOFFSETTO:+0200
TZNAME:EET
DTSTART:20271031T010000
END:STANDARD
END:VTIMEZONE
BEGIN:VTIMEZONE
TZID:America/Los_Angeles
BEGIN:DAYLIGHT
TZOFFSETFROM:-0800
TZOFFSETTO:-0700
TZNAME:PDT
DTSTART:20250309T100000
END:DAYLIGHT
BEGIN:STANDARD
TZOFFSETFROM:-0700
TZOFFSETTO:-0800
TZNAME:PST
DTSTART:20251102T090000
END:STANDARD
BEGIN:DAYLIGHT
TZOFFSETFROM:-0800
TZOFFSETTO:-0700
TZNAME:PDT
DTSTART:20260308T100000
END:DAYLIGHT
BEGIN:STANDARD
TZOFFSETFROM:-0700
TZOFFSETTO:-0800
TZNAME:PST
DTSTART:20261101T090000
END:STANDARD
BEGIN:DAYLIGHT
TZOFFSETFROM:-0800
TZOFFSETTO:-0700
TZNAME:PDT
DTSTART:20270314T100000
END:DAYLIGHT
BEGIN:STANDARD
TZOFFSETFROM:-0700
TZOFFSETTO:-0800
TZNAME:PST
DTSTART:20271107T090000
END:STANDARD
END:VTIMEZONE
BEGIN:VTIMEZONE
TZID:Asia/Taipei
BEGIN:STANDARD
TZOFFSETFROM:+0800
TZOFFSETTO:+0800
TZNAME:CST
DTSTART:20250101T000000
END:STANDARD
END:VTIMEZONE
BEGIN:VEVENT
DTSTART;VALUE=DATE:20260615
DTEND;VALUE=DATE:20260618
DTSTAMP:20260420T071036
CREATED:20260115T204344Z
LAST-MODIFIED:20260115T204432Z
UID:496-1781481600-1781740799@sparkglobal.io
SUMMARY:12th Annual SPARK GLOBAL Meeting
DESCRIPTION:Join us for the 12th annual SPARK GLOBAL Meeting\, scheduled to be held from June 15-17\, 2026 in Helsinki\, Finland. In addition to the meeting\, we will also be celebrating SPARK Finland’s 10th Anniversary. \nAdditional details\, including registration and lodging recommendations\, will be shared in early 2026. \nWe hope you can join us in Helsinki!
URL:https://sparkglobal.io/event/12th-annual-spark-global-meeting/
LOCATION:CA
CATEGORIES:Meeting
ORGANIZER;CN="Mario Gaspar":MAILTO:maegaspa@stanford.edu
END:VEVENT
BEGIN:VEVENT
DTSTART;VALUE=DATE:20260622
DTEND;VALUE=DATE:20260626
DTSTAMP:20260420T071036
CREATED:20260115T205115Z
LAST-MODIFIED:20260115T205115Z
UID:497-1782086400-1782431999@sparkglobal.io
SUMMARY:2026 BIO International Convention
DESCRIPTION:Join SPARK at Stanford at the annual BIO International Convention\, scheduled to be held from June 22-25\, 2026\, at the San Diego Convention Center in San Diego\, CA\, US. BIO is the world’s largest advocacy association representing biotechnology companies\, academic and research institutions\, state biotechnology centers\, and related organizations across the United States and in more than 30 other nations. \n 
URL:https://sparkglobal.io/event/2026-bio-international-convention/
LOCATION:San Diego Convention Center\, 111 Harbor Drive\, San Diego\, CA\, 92101\, United States
CATEGORIES:Meeting
END:VEVENT
BEGIN:VEVENT
DTSTART;VALUE=DATE:20260713
DTEND;VALUE=DATE:20260718
DTSTAMP:20260420T071037
CREATED:20260115T205740Z
LAST-MODIFIED:20260115T205740Z
UID:499-1783900800-1784332799@sparkglobal.io
SUMMARY:SPARK Taiwan Translational Research Bootcamp
DESCRIPTION:  \nSPARK Taiwan will be hosting its annual translational research bootcamp between July 13-17\, 2026 in Taipei\, Taiwan. \nAdditional details\, including registration information\, will be shared by May 2026. \nFor questions\, please contact the SPARK Taiwan Office\, sparktw@niar.org.tw.
URL:https://sparkglobal.io/event/spark-taiwan-translational-research-bootcamp/
LOCATION:CA
CATEGORIES:Bootcamp
END:VEVENT
BEGIN:VEVENT
DTSTART;TZID=America/Los_Angeles:20261021T170000
DTEND;TZID=America/Los_Angeles:20261021T200000
DTSTAMP:20260420T071037
CREATED:20260115T210701Z
LAST-MODIFIED:20260115T210724Z
UID:506-1792602000-1792612800@sparkglobal.io
SUMMARY:SPARK at Stanford 20th Anniversary
DESCRIPTION:In 2026\, SPARK at Stanford proudly celebrates 20 years of advancing translational research from bench to bedside. Since its founding\, SPARK has empowered investigators to advance their discoveries into clinical trials\, licensing agreements\, and launch their own start-up companies. Join us all year long as we celebrate two decades of SPARKing innovation \nA formal celebratory event will be held on Wednesday\, October 21st\, at the Stanford Cantor Arts Center. Additional details will be shared closer to the event date.
URL:https://sparkglobal.io/event/spark-at-stanford-20th-anniversary/
LOCATION:Cantor Arts Center\, 328 Lomita Drive\, Stanford\, CA\, 94305\, United States
CATEGORIES:Celebration
ORGANIZER;CN="Mario Gaspar":MAILTO:maegaspa@stanford.edu
END:VEVENT
END:VCALENDAR