BEGIN:VCALENDAR
VERSION:2.0
PRODID:-//SPARK GLOBAL - ECPv6.15.14//NONSGML v1.0//EN
CALSCALE:GREGORIAN
METHOD:PUBLISH
X-WR-CALNAME:SPARK GLOBAL
X-ORIGINAL-URL:https://sparkglobal.io
X-WR-CALDESC:Events for SPARK GLOBAL
REFRESH-INTERVAL;VALUE=DURATION:PT1H
X-Robots-Tag:noindex
X-PUBLISHED-TTL:PT1H
BEGIN:VTIMEZONE
TZID:Africa/Lagos
BEGIN:STANDARD
TZOFFSETFROM:+0100
TZOFFSETTO:+0100
TZNAME:WAT
DTSTART:20250101T000000
END:STANDARD
END:VTIMEZONE
BEGIN:VEVENT
DTSTART;VALUE=DATE:20260202
DTEND;VALUE=DATE:20260207
DTSTAMP:20260422T083940
CREATED:20260115T202105Z
LAST-MODIFIED:20260115T202223Z
UID:494-1769990400-1770422399@sparkglobal.io
SUMMARY:SPARK Nigeria Translational Research Bootcamp and Conference
DESCRIPTION: 
URL:https://sparkglobal.io/event/spark-nigeria-translational-research-bootcamp-and-conference/
LOCATION:Transcorp Hilton Abuja\, 1 Aguiyi Ironsi St\, Abuja\, Federal Capital Territory\, Nigeria
CATEGORIES:Bootcamp,Meeting
END:VEVENT
END:VCALENDAR